BEGIN:VCALENDAR
VERSION:2.0
PRODID:-//Rumi Forum - ECPv6.3.3.1//NONSGML v1.0//EN
CALSCALE:GREGORIAN
METHOD:PUBLISH
X-ORIGINAL-URL:https://rumiforum.org
X-WR-CALDESC:Events for Rumi Forum
REFRESH-INTERVAL;VALUE=DURATION:PT1H
X-Robots-Tag:noindex
X-PUBLISHED-TTL:PT1H
BEGIN:VTIMEZONE
TZID:UTC
BEGIN:STANDARD
TZOFFSETFROM:+0000
TZOFFSETTO:+0000
TZNAME:UTC
DTSTART:20250101T000000
END:STANDARD
END:VTIMEZONE
BEGIN:VEVENT
DTSTART;TZID=UTC:20251118T170000
DTEND;TZID=UTC:20251118T170000
DTSTAMP:20260421T085003
CREATED:20251203T163505Z
LAST-MODIFIED:20251208T055029Z
UID:23006-1763485200-1763485200@rumiforum.org
SUMMARY:2025 Annual Gala and Dialogue Awards Ceremony
DESCRIPTION:This week\, Rumi Forum hosted its 2025 Annual Gala & Dialogue Award Ceremony\, honoring a visionary leader in interreligious understanding: Dr. John Borelli\, Special Assistant for Catholic Identity and Dialogue to the President of Georgetown University.\n\n\n\nThis year’s ceremony was also a special celebration of the 60th anniversary of Nostra Aetate\, the landmark #Vatican II declaration that transformed #Catholic relations with other faith communities and laid crucial foundations for modern #interreligious dialogue.\n\n\n\nWe were grateful to honor Dr. Borelli’s lifelong commitment to building bridges—and to commemorate a document that continues to inspire mutual respect\, understanding\, and cooperation across traditions.\n\n\n\nThank you to everyone who joined us for this meaningful evening!
URL:https://rumiforum.org/event/2025-annual-gala-and-dialogue-awards-ceremony/
LOCATION:Meridian House\, 1630 Crescent Pl NW\, Washington\, DC\, 20009\, United States
ATTACH;FMTTYPE=image/jpeg:https://rumiforum.org/wp-content/uploads/2025/12/WP-Header-Upload.jpg
END:VEVENT
END:VCALENDAR