BEGIN:VCALENDAR
VERSION:2.0
PRODID:-//Rumi Forum - ECPv6.3.3.1//NONSGML v1.0//EN
CALSCALE:GREGORIAN
METHOD:PUBLISH
X-WR-CALNAME:Rumi Forum
X-ORIGINAL-URL:https://rumiforum.org
X-WR-CALDESC:Events for Rumi Forum
REFRESH-INTERVAL;VALUE=DURATION:PT1H
X-Robots-Tag:noindex
X-PUBLISHED-TTL:PT1H
BEGIN:VTIMEZONE
TZID:UTC
BEGIN:STANDARD
TZOFFSETFROM:+0000
TZOFFSETTO:+0000
TZNAME:UTC
DTSTART:20250101T000000
END:STANDARD
END:VTIMEZONE
BEGIN:VEVENT
DTSTART;TZID=UTC:20251120T190000
DTEND;TZID=UTC:20251120T210000
DTSTAMP:20260421T234837
CREATED:20251203T162427Z
LAST-MODIFIED:20260306T171153Z
UID:22996-1763665200-1763672400@rumiforum.org
SUMMARY:Rumi Forum Young Professionals Friendsgiving Dinner
DESCRIPTION:Rumi Forum Young Professionals Friendsgiving Dinner\n\n\n\nWhat a beautiful evening!\n\n\n\nThank you to everyone who joined us for our Friendsgiving Dinner on Thursday\, November 20th. The night was filled with good food\, live music\, warm conversations\, and heartfelt gratitude — everything Friendsgiving is meant to be.\n\n\n\nWe’re grateful for the young professionals\, community members\, and friends who came together to celebrate friendship\, connection\, and the spirit of Thanksgiving.\n\n\n\nHere’s to more gatherings that bring people closer\, nurture community\, and remind us of the power of gratitude.\n\n\n\nUntil next time!
URL:https://rumiforum.org/event/rumi-forum-friendsgiving-dinner/
LOCATION:Friends Meeting of Washington\, 2111 Decatur Pl. NW\, Washington\, DC\, 20008\, United States
ATTACH;FMTTYPE=image/jpeg:https://rumiforum.org/wp-content/uploads/2025/12/WP-Header-Upload-2.jpg
END:VEVENT
END:VCALENDAR