BEGIN:VCALENDAR
VERSION:2.0
PRODID:-//Rumi Forum - ECPv6.3.3.1//NONSGML v1.0//EN
CALSCALE:GREGORIAN
METHOD:PUBLISH
X-WR-CALNAME:Rumi Forum
X-ORIGINAL-URL:https://rumiforum.org
X-WR-CALDESC:Events for Rumi Forum
REFRESH-INTERVAL;VALUE=DURATION:PT1H
X-Robots-Tag:noindex
X-PUBLISHED-TTL:PT1H
BEGIN:VTIMEZONE
TZID:UTC
BEGIN:STANDARD
TZOFFSETFROM:+0000
TZOFFSETTO:+0000
TZNAME:UTC
DTSTART:20240101T000000
END:STANDARD
END:VTIMEZONE
BEGIN:VEVENT
DTSTART;TZID=UTC:20240213T190000
DTEND;TZID=UTC:20240213T210000
DTSTAMP:20260422T234933
CREATED:20240118T164056Z
LAST-MODIFIED:20240216T144808Z
UID:20866-1707850800-1707858000@rumiforum.org
SUMMARY:Partner Event: Film Screening and Discussion of “Sevap/Mitzvah”
DESCRIPTION:Rumi Forum is proud to join the Jewish Islamic Dialogue Society (JIDS) in presenting a dialogue featuring the film by writer and director Sabina Vajrača\, “Sevap/Mitzvah”  on February 13\, 2024 at Washington Hebrew Congregation. This short film is a moving dramatization of a Bosnian Muslim woman who hid a Jewish family during the Holocaust and then was rescued by Jews during the war in Bosnia 52 years later. It is a story about the power of true friendship\, which is one thing organizations like JIDS and the Rumi Forum have tried so hard to foster – true friendships between Muslims and Jews. \nThis film should provide an excellent springboard for a discussion that can help bring our two communities together during a time when many forces would like to split us apart. Come in fellowship\, prepare to be inspired\, and participate in a dialogue that builds on the film to confront issues facing our communities today. \nWatch the Trailer \n\n  \nAwards \n2024 Academy Awards – For Your Consideration Best Live Action Short Film  \n2023 Humanitas Prize \n2023 ECOCINE Film Festival ~ Human Rights Award \n2023 Centre Film Festival ~ Gratitude Award \n2023 Sedicicorto International Film Festival ~ Audience Award \n2023 Flickers’ Rhode Island International Film Festival ~ Jury Award: International Vision Award \n2023 Cordillera International Film Festival ~ Jury Award: Best Female Focus \n2021 Claims Conference ~ Emerging Filmmaker Grant
URL:https://rumiforum.org/event/film_screening_and_discussion_sevap_mitzvah/
LOCATION:Washington Hebrew Congregation\,  3935 Macomb St NW\, Washington\, DC\, 20016\, United States
CATEGORIES:Community Events,Interfaith Engagement,Upcoming Events
ATTACH;FMTTYPE=image/jpeg:https://rumiforum.org/wp-content/uploads/2024/01/HELP-FOR-VICTIMS-OF-EARTHQUAKE-IN-SOUTHERN-TURKEY-AND-SYRIA-16.jpg
END:VEVENT
END:VCALENDAR