BEGIN:VCALENDAR
VERSION:2.0
PRODID:-//Rumi Forum - ECPv6.3.3.1//NONSGML v1.0//EN
CALSCALE:GREGORIAN
METHOD:PUBLISH
X-WR-CALNAME:Rumi Forum
X-ORIGINAL-URL:https://rumiforum.org
X-WR-CALDESC:Events for Rumi Forum
REFRESH-INTERVAL;VALUE=DURATION:PT1H
X-Robots-Tag:noindex
X-PUBLISHED-TTL:PT1H
BEGIN:VTIMEZONE
TZID:UTC
BEGIN:STANDARD
TZOFFSETFROM:+0000
TZOFFSETTO:+0000
TZNAME:UTC
DTSTART:20240101T000000
END:STANDARD
END:VTIMEZONE
BEGIN:VEVENT
DTSTART;TZID=UTC:20240321T180000
DTEND;TZID=UTC:20240321T203000
DTSTAMP:20260424T012509
CREATED:20240228T181853Z
LAST-MODIFIED:20250318T163209Z
UID:20970-1711044000-1711053000@rumiforum.org
SUMMARY:Scriptural Reasoning: "Riots and Rebellion"
DESCRIPTION:Rumi Forum had its monthly circle on March 21\, 2024\, to study Abrahamic scriptures\, followed by an Iftar\, on “Riots and Rebellion” with our study leader Rev. Larry Golemon from Washington Theological Consortium. \nScriptural Reasoning (SR) allows Christians\, Jews\, and Muslims to study each other’s sacred texts. SR participants meet monthly to read short passages on a topic from their respective scriptures. Facilitated by a study leader\, each session is an opportunity to listen and share various perspectives. SR sessions help participants reflect on a curious list of topics within the Abrahamic tradition. The result is often a deeper understanding of others and one’s scriptures and the development of strong bonds across faith communities. \n                 Scriptural Reasoning: Introduction                      Islamic Scripture: Quran \n            \n               Christian Scripture: New Testament               Jewish Scripture: Hebrew Bible \n            \nProgram Outline: \n6:00 – 7:15 pm – Scriptural Reasoning session on “Riots and Rebellion” \n7:25 – 8:30 pm – Iftar dinner and conversations at the table \n \nThis Month`s Study Leader \n\nRev. Larry Golemon\, Ph.D.\, is the Executive Director of the Washington Theological Consortium. Larry has served the wider church in various capacities: youth minister\, local pastor\, college and seminary professor\, missionary\, and researcher.  He received a B.A. in History from Stanford University\, a Master of Divinity and a Master of Sacred Theology from the Yale Divinity School\, a ThM from Columbia Theological Seminary\, and a Ph.D. in contemporary theology from Emory University’s Graduate Division of Religion. He is an ordained Presbyterian minister (PCUSA). \nAs a researcher\, Dr. Golemon was an associate for the national study of theological education by the Carnegie Foundation for the Advancement of Teaching and co-authored their findings in Educating Clergy (2006). He taught at the Dominican University of California and the GTU. He directed their research project entitled “Sacred Visions and the Social Good\,” which explored religion in public life among Buddhists\, Sufis\, Native Americans\, and faith-based Catholic and Protestant parishes. While at the Alban Institute in Virginia\, he directed the Narrative Leadership project\, which explored the story-based transformation of congregational life. He also coordinated the “Ecumenical Project” at Virginia Theological Seminary\, identifying capacities and new possibilities for ecumenical teaching and learning. He continues to write in theological education\, with a new book entitled “Clergy Education in America: Religious Leadership and American Public Life\, 1785-1935” (Oxford Press\, 2021). The book analyzes how Protestants\, Catholics\, and Jews have educated clergy for American society\, specifically as culture-builders in religious and public life. Later\, schools for woman\, African Americans\, and the white working class followed suit in their own distinctive ways.
URL:https://rumiforum.org/event/scriptural-reasoning-riots-and-rebellion/
LOCATION:Virginia Theological Seminary-Addison Academic Center\, 3630 Bishop Walker Cir.\, Alexandria\, VA\, 22304\, United States
CATEGORIES:Interfaith Engagement,Past Events,Scriptural Reasoning
ATTACH;FMTTYPE=image/jpeg:https://rumiforum.org/wp-content/uploads/2024/02/2023-SR-Designs-6.jpg
END:VEVENT
END:VCALENDAR