BEGIN:VCALENDAR
VERSION:2.0
PRODID:-//Rumi Forum - ECPv6.3.3.1//NONSGML v1.0//EN
CALSCALE:GREGORIAN
METHOD:PUBLISH
X-ORIGINAL-URL:https://rumiforum.org
X-WR-CALDESC:Events for Rumi Forum
REFRESH-INTERVAL;VALUE=DURATION:PT1H
X-Robots-Tag:noindex
X-PUBLISHED-TTL:PT1H
BEGIN:VTIMEZONE
TZID:UTC
BEGIN:STANDARD
TZOFFSETFROM:+0000
TZOFFSETTO:+0000
TZNAME:UTC
DTSTART:20230101T000000
END:STANDARD
END:VTIMEZONE
BEGIN:VEVENT
DTSTART;TZID=UTC:20231217T183000
DTEND;TZID=UTC:20231217T200000
DTSTAMP:20260423T233909
CREATED:20231128T051730Z
LAST-MODIFIED:20231231T035358Z
UID:20574-1702837800-1702843200@rumiforum.org
SUMMARY:Live Sufi Music and Poetry: Rumi’s "Night of the Union”
DESCRIPTION:Rumi Forum organized a live Sufi music performance by “Sufi Melody” with Sara Snyder: “Seeking mental health through Rumi`s poetry” on Dec. 17\, 2023\, at 6:30 pm at the Church of the Holy City. \n \nAbout the Event \nSheb-i Arus (Night of Union”) marks the anniversary of Rumi’s passing on December 17\, 1273. On this night\, admirers of the great luminary worldwide engage in various spiritual practices and learning activities to honor his legacy. \nThe word “arus\,” meaning “wedding\,” symbolizes the union of the soul with the Divine upon death. Sheb-i Arus serves as a time for spiritual reflection\, celebration\, and a reaffirmation of the teachings and values espoused by Rumi. \nJoin us on December 17th for an end-of-the-year social night to celebrate this meaningful occasion with Rumi’s teachings and live Sufi music! \nLive Sufi Music by “Sufi Melody” \n \nSufi Melody is a spiritual music ensemble that aims to establish a web of love and a sense of connectedness among cultural groups through music. Inspired by the inclusive tradition of Sufism\, Sufi Melody aims to create and cover pieces from various faith traditions\, including but not limited to Islam\, to build bridges among diverse communities. Sufi Melody`s mission is to foster unity and understanding among diverse communities through music. \n“Seeking Mental Health Through Rumi’s Poetry“ by Sarah Snyder \n \nS.A. Snyder has been a writer for more than 30 years. She participates in live storytelling and blogs about self-care and retreating. With humor and insight\, Sarah inspires others by telling her own experiences to examine what it means to live a meaningful life. She is also the author of four books: DIY Retreats: A Handbook for Creating Your Space\, Setting an Intention\, and Getting the Self-care You Need; The Value of Your Soul: Lessons in Dealing with Life’s Annoyances (using Rumi verse to live a more meaningful life); Plant Trees\, Carry Sheep: A Woman’s Spiritual Journey Among the Sufis of Scotland (a memoir); and Montana Scenic Drives(your travel companion to visiting Montana’s scenic places).
URL:https://rumiforum.org/event/rumis-night-of-the-union/
LOCATION:Church of the Holy City\, 1611 16th Street\, NW\, Washington\, DC\, 20009\, United States
CATEGORIES:Community Events,Interfaith Engagement,Past Events
ATTACH;FMTTYPE=image/jpeg:https://rumiforum.org/wp-content/uploads/2023/11/HELP-FOR-VICTIMS-OF-EARTHQUAKE-IN-SOUTHERN-TURKEY-AND-SYRIA-13.jpg
END:VEVENT
END:VCALENDAR